BEGIN:VCALENDAR
VERSION:2.0
PRODID:-//SportPlan//Event Calendar//EN
CALSCALE:GREGORIAN
BEGIN:VEVENT
UID:4d74a007-34c2-4d62-9092-e45d770001d3@sportplan.local
DTSTAMP:20260420T224452Z
DTSTART;VALUE=DATE:20261016
DTEND;VALUE=DATE:20261019
SUMMARY:Transjeju By UTMB 111K
DESCRIPTION:Transjeju By UTMB 111K 대회는 2026년 10월 16일에 Jeju\, Jeju에서 열립니다. 탄탄한 운영과 현장 분위기를 기대하는 참가자에게 잘 맞는 이벤트이며\, 거리는 111km입니다. 기록에 도전하는 러너부터 코스와 현장 분위기를 함께 즐기고 싶은 참가자까지 폭넓게 어울립니다.
LOCATION:Jeju\, Jeju
URL:https://sportplan.vercel.app/it/events/transjeju-by-utmb-111k-jeju-2026-10-16
END:VEVENT
END:VCALENDAR
