BEGIN:VCALENDAR
VERSION:2.0
PRODID:-//SportPlan//Event Calendar//EN
CALSCALE:GREGORIAN
BEGIN:VEVENT
UID:f03a0ae4-8c5d-4440-9590-f6842a8bde35@sportplan.local
DTSTAMP:20260420T211222Z
DTSTART;VALUE=DATE:20260905
DTEND;VALUE=DATE:20260906
SUMMARY:Transfier 2026
DESCRIPTION:Transfier 2026 is an official amateur triathlon in the Transfăgărășan area of Romania on 5 September 2026. The Romanian Triathlon Federation calendar lists half and standard-distance races\, and the official event website includes dedicated course and registration pages.
LOCATION:Transfăgărășan
URL:https://sportplan.vercel.app/it/events/transfier-2026-transfagarasan-2026-09-05
END:VEVENT
END:VCALENDAR
