BEGIN:VCALENDAR
VERSION:2.0
PRODID:-//SportPlan//Event Calendar//EN
CALSCALE:GREGORIAN
BEGIN:VEVENT
UID:34d6bc89-dfc2-4495-a976-85d944c54c18@sportplan.local
DTSTAMP:20260420T224327Z
DTSTART;VALUE=DATE:20260614
DTEND;VALUE=DATE:20260615
SUMMARY:Transdolomites 60K 2026
DESCRIPTION:Transdolomites 60K 2026 si svolge a Canazei\, Trentino-Alto Adige il 14 giugno 2026. Questa gara offre un’esperienza ben organizzata per i runner\, con un percorso di circa 60 km. È un’ottima occasione per vivere l’atmosfera dell’evento\, mettersi alla prova sul percorso e godersi una giornata di sport a Canazei\, Trentino-Alto Adige.
LOCATION:Canazei\, Trentino-Alto Adige
URL:https://sportplan.vercel.app/it/events/transdolomites-60k-2026-canazei-2026-06-14
END:VEVENT
END:VCALENDAR
