BEGIN:VCALENDAR
VERSION:2.0
PRODID:-//SportPlan//Event Calendar//EN
CALSCALE:GREGORIAN
BEGIN:VEVENT
UID:eb64cd4f-8c77-4bff-b4b0-f992ff072236@sportplan.local
DTSTAMP:20260420T225059Z
DTSTART;VALUE=DATE:20260814
DTEND;VALUE=DATE:20260815
SUMMARY:Trailvasan 10 2026
DESCRIPTION:Trailvasan 10 2026 is an official amateur trail running event from Vasaloppet in Sweden on 14 August 2026. The official page describes a 10 km evening run with start and finish at the classic Vasaloppet portal in Mora\, open from age 11\, with water stations\, no cut-off times\, and public leisure participation for regular runners.
LOCATION:Mora\, Dalarna County\, Sweden
URL:https://sportplan.vercel.app/it/events/trailvasan-10-2026-2026-08-14
END:VEVENT
END:VCALENDAR
