BEGIN:VCALENDAR
VERSION:2.0
PRODID:-//SportPlan//Event Calendar//EN
CALSCALE:GREGORIAN
BEGIN:VEVENT
UID:e4741e78-2e1a-4bd2-af9c-90a5a97414d3@sportplan.local
DTSTAMP:20260420T211510Z
DTSTART;VALUE=DATE:20260530
DTEND;VALUE=DATE:20260531
SUMMARY:Trail Valle del Aller
DESCRIPTION:Trail Valle del Aller es una prueba que se celebrará el 2026-05-30 en Moreda de Aller\, Valle Minero. Es una buena opción para quienes buscan una jornada activa y bien organizada\, con un recorrido de 24 km. Ideal tanto para participantes habituales como para quienes quieren sumar una nueva experiencia al calendario.
LOCATION:Moreda de Aller\, Valle Minero
URL:https://sportplan.vercel.app/it/events/trail-valle-del-aller-moreda-de-aller-2026-05-30
END:VEVENT
END:VCALENDAR
