BEGIN:VCALENDAR
VERSION:2.0
PRODID:-//SportPlan//Event Calendar//EN
CALSCALE:GREGORIAN
BEGIN:VEVENT
UID:26060364-66be-4803-a460-3d7e025a44d7@sportplan.local
DTSTAMP:20260420T211620Z
DTSTART;VALUE=DATE:20261101
DTEND;VALUE=DATE:20261102
SUMMARY:Trail Tres Cerros Palentinos
DESCRIPTION:Trail Tres Cerros Palentinos se celebrará el 2026-11-01 en Palencia\, Palencia\, Castilla y León. El recorrido cubre aproximadamente 12 km\, ofreciendo una cita atractiva tanto para participantes que buscan un nuevo reto como para quienes quieren disfrutar del ambiente del evento. Ideal para sumar una nueva experiencia al calendario y disfrutar de una jornada activa en un entorno especial.
LOCATION:Palencia\, Palencia\, Castilla y León
URL:https://sportplan.vercel.app/it/events/trail-tres-cerros-palentinos-palencia-2026-11-01-12k
END:VEVENT
END:VCALENDAR
