BEGIN:VCALENDAR
VERSION:2.0
PRODID:-//SportPlan//Event Calendar//EN
CALSCALE:GREGORIAN
BEGIN:VEVENT
UID:d8a621b4-51dc-436b-9732-d2d2eeea9c0a@sportplan.local
DTSTAMP:20260420T214619Z
DTSTART;VALUE=DATE:20260606
DTEND;VALUE=DATE:20260607
SUMMARY:Trail Tozal de Guara
DESCRIPTION:Trail Tozal de Guara se celebrará el 6 de junio de 2026 en Nocito\, Huesca. Es una buena opción para quienes buscan un reto bien organizado en un entorno atractivo. Ideal para planificar la temporada\, disfrutar del ambiente del evento y competir a tu ritmo.
LOCATION:Nocito\, Huesca
URL:https://sportplan.vercel.app/it/events/trail-tozal-de-guara-nocito-2026-06-06
END:VEVENT
END:VCALENDAR
