BEGIN:VCALENDAR
VERSION:2.0
PRODID:-//SportPlan//Event Calendar//EN
CALSCALE:GREGORIAN
BEGIN:VEVENT
UID:8cd5c43b-cb10-49c5-9bdd-b010c9fb6856@sportplan.local
DTSTAMP:20260420T211510Z
DTSTART;VALUE=DATE:20260627
DTEND;VALUE=DATE:20260628
SUMMARY:Trail Teverga Proaza
DESCRIPTION:Trail Teverga Proaza se celebrará el 2026-06-27 en Proaza\, Desfiladero de Proaza. Es una buena opción para quienes buscan un reto bien organizado sobre una distancia de 20 km. Ideal tanto para participantes que quieren competir como para quienes prefieren disfrutar del ambiente del evento.
LOCATION:Proaza\, Desfiladero de Proaza
URL:https://sportplan.vercel.app/it/events/trail-teverga-proaza-proaza-2026-06-27
END:VEVENT
END:VCALENDAR
