BEGIN:VCALENDAR
VERSION:2.0
PRODID:-//SportPlan//Event Calendar//EN
CALSCALE:GREGORIAN
BEGIN:VEVENT
UID:bc33eff9-b0d2-4f66-8774-11270c2e9ac9@sportplan.local
DTSTAMP:20260420T211512Z
DTSTART;VALUE=DATE:20261005
DTEND;VALUE=DATE:20261006
SUMMARY:Trail Solidari Ciutat d'Alcoi
DESCRIPTION:Trail Solidari Ciutat d'Alcoi se celebrará en Alcoi\, Alacant\, Comunidad Valenciana el 5 octubre 2026. Es una cita ideal para quienes buscan una experiencia deportiva bien organizada y un recorrido de 54 km. Perfecto tanto para participantes que quieren rendir al máximo como para quienes desean disfrutar del ambiente del evento.
LOCATION:Alcoi\, Alacant\, Comunidad Valenciana
URL:https://sportplan.vercel.app/it/events/trail-solidari-ciutat-d-alcoi-alcoi-2026-10-05-54k
END:VEVENT
END:VCALENDAR
