BEGIN:VCALENDAR
VERSION:2.0
PRODID:-//SportPlan//Event Calendar//EN
CALSCALE:GREGORIAN
BEGIN:VEVENT
UID:c7fb2986-e301-40c7-ad33-5c54dfdbbf47@sportplan.local
DTSTAMP:20260420T211358Z
DTSTART;VALUE=DATE:20260516
DTEND;VALUE=DATE:20260517
SUMMARY:Trail Sierra Narcea
DESCRIPTION:Trail Sierra Narcea se celebra el 16 de mayo de 2026 en Tineo\, Sierra Narcea. La prueba recorre 30 km. Ideal para participantes que quieren disfrutar del recorrido\, el ambiente del evento y una jornada activa.
LOCATION:Tineo\, Sierra Narcea
URL:https://sportplan.vercel.app/it/events/trail-sierra-narcea-tineo-2026-05-16
END:VEVENT
END:VCALENDAR
