BEGIN:VCALENDAR
VERSION:2.0
PRODID:-//SportPlan//Event Calendar//EN
CALSCALE:GREGORIAN
BEGIN:VEVENT
UID:b9f5e211-2dcd-4191-b4de-5237c76e015a@sportplan.local
DTSTAMP:20260420T214855Z
DTSTART;VALUE=DATE:20260516
DTEND;VALUE=DATE:20260517
SUMMARY:Trail Sierra de la Carrodilla
DESCRIPTION:Trail Sierra de la Carrodilla se celebra el 16 de mayo de 2026 en Estadilla\, Huesca. Es una gran opción para quienes buscan una experiencia deportiva bien organizada en un entorno atractivo. Ideal para participantes que quieren disfrutar del recorrido\, el ambiente del evento y una jornada activa.
LOCATION:Estadilla\, Huesca
URL:https://sportplan.vercel.app/it/events/trail-sierra-de-la-carrodilla-estadilla-2026-05-16
END:VEVENT
END:VCALENDAR
