BEGIN:VCALENDAR
VERSION:2.0
PRODID:-//SportPlan//Event Calendar//EN
CALSCALE:GREGORIAN
BEGIN:VEVENT
UID:d93c38ae-8295-4532-b837-4ea047e6c4a7@sportplan.local
DTSTAMP:20260420T200755Z
DTSTART;VALUE=DATE:20261124
DTEND;VALUE=DATE:20261125
SUMMARY:Trail Sierra de Albarracín. el Bosque
DESCRIPTION:Trail Sierra de Albarracín. el Bosque se celebrará el 24 noviembre 2026 en El Bosque\, Cádiz\, Andalucía\, ofreciendo una cita ideal para quienes quieren vivir el ambiente del evento desde cerca. Con una distancia aproximada de 24 km\, es una opción atractiva tanto para participantes habituales como para quienes quieren sumar un nuevo reto en el calendario.
LOCATION:El Bosque\, Cádiz\, Andalucía
URL:https://sportplan.vercel.app/it/events/trail-sierra-de-albarracin-el-bosque-el-bosque-2026-11-24-24k
END:VEVENT
END:VCALENDAR
