BEGIN:VCALENDAR
VERSION:2.0
PRODID:-//SportPlan//Event Calendar//EN
CALSCALE:GREGORIAN
BEGIN:VEVENT
UID:a5cf1eb0-ca26-4ab2-8e2f-a064ec47c33c@sportplan.local
DTSTAMP:20260420T194835Z
DTSTART;VALUE=DATE:20260425
DTEND;VALUE=DATE:20260426
SUMMARY:Trail Serra de Tramuntana Mallorca
DESCRIPTION:Trail Serra de Tramuntana Mallorca se celebra en Sóller\, Serra de Tramuntana el 25 de abril de 2026. Es una cita ideal para vivir una gran jornada de running con un recorrido de 48 km route that suits both focused racing and enjoying the local atmosphere. Tanto si buscas marca como si prefieres disfrutar del recorrido\, ofrece una experiencia atractiva para corredores y acompañantes.
LOCATION:Sóller\, Serra de Tramuntana
URL:https://sportplan.vercel.app/it/events/trail-serra-de-tramuntana-mallorca-s-ller-2026-04-25
END:VEVENT
END:VCALENDAR
