BEGIN:VCALENDAR
VERSION:2.0
PRODID:-//SportPlan//Event Calendar//EN
CALSCALE:GREGORIAN
BEGIN:VEVENT
UID:77075884-5109-4b67-8787-ab796510da69@sportplan.local
DTSTAMP:20260420T224609Z
DTSTART;VALUE=DATE:20261013
DTEND;VALUE=DATE:20261014
SUMMARY:Trail Ribeira Sacra - 48K
DESCRIPTION:Trail Ribeira Sacra - 48K se celebra el 13 de octubre de 2026 en Ourense\, Ourense\, Galicia. Es una cita ideal para quienes buscan un recorrido bien señalizado y un gran ambiente de carrera\, con un recorrido de 48 km. Perfecta tanto para competir a buen ritmo como para disfrutar de la experiencia y del entorno del evento.
LOCATION:Ourense\, Ourense\, Galicia
URL:https://sportplan.vercel.app/it/events/trail-ribeira-sacra-48k-ourense-2026-10-13-48k
END:VEVENT
END:VCALENDAR
