BEGIN:VCALENDAR
VERSION:2.0
PRODID:-//SportPlan//Event Calendar//EN
CALSCALE:GREGORIAN
BEGIN:VEVENT
UID:16eeef13-344b-4a04-86a0-336a0545a034@sportplan.local
DTSTAMP:20260420T211618Z
DTSTART;VALUE=DATE:20260720
DTEND;VALUE=DATE:20260721
SUMMARY:Trail Puente Agudín - Peña el Tejo
DESCRIPTION:Trail Puente Agudín - Peña el Tejo se celebra en Velilla del Río Carrión\, Palencia\, Castilla y León el 20 de julio de 2026\, reuniendo a corredores en un entorno atractivo y con muy buen ambiente. La prueba ofrece con unos 11.7 km de recorrido\, bien señalizados y con gran ambiente de carrera\, por lo que es una excelente opción tanto para quienes buscan rendir como para quienes quieren disfrutar de la experiencia.
LOCATION:Velilla del Río Carrión\, Palencia\, Castilla y León
URL:https://sportplan.vercel.app/it/events/trail-puente-agudin-pena-el-tejo-velilla-del-rio-carrion-2026-07-20-11-7k
END:VEVENT
END:VCALENDAR
