BEGIN:VCALENDAR
VERSION:2.0
PRODID:-//SportPlan//Event Calendar//EN
CALSCALE:GREGORIAN
BEGIN:VEVENT
UID:24816b6d-8369-413a-bfdb-1de96267ef16@sportplan.local
DTSTAMP:20260420T205956Z
DTSTART;VALUE=DATE:20260420
DTEND;VALUE=DATE:20260421
SUMMARY:Trail Nature d'Isle
DESCRIPTION:Trail Nature d'Isle aura lieu le 20 avril 2026 à Isle\, avec une atmosphère idéale pour les coureurs en quête de défi et de convivialité. Avec un parcours de 22 km\, l'épreuve conviendra aussi bien à celles et ceux qui visent un chrono qu'aux participants venus profiter d'une belle journée sportive. C'est un bon rendez-vous pour découvrir la destination\, partager l'énergie du peloton et vivre une course au caractère bien marqué.
LOCATION:Isle
URL:https://sportplan.vercel.app/it/events/trail-nature-d-isle-isle-2026-04-20
END:VEVENT
END:VCALENDAR
