BEGIN:VCALENDAR
VERSION:2.0
PRODID:-//SportPlan//Event Calendar//EN
CALSCALE:GREGORIAN
BEGIN:VEVENT
UID:faa432d2-e400-4b27-91fd-956e64dad336@sportplan.local
DTSTAMP:20260420T201829Z
DTSTART;VALUE=DATE:20260901
DTEND;VALUE=DATE:20260902
SUMMARY:Trail Montan Sierra Espina - 10K
DESCRIPTION:Trail Montan Sierra Espina - 10K se celebrará el 1 de septiembre de 2026 en Montan\, Castelló\, Comunidad Valenciana. Es una buena cita para participantes y acompañantes que buscan un ambiente activo y bien organizado. La distancia anunciada es de 10 km.
LOCATION:Montan\, Castelló\, Comunidad Valenciana
URL:https://sportplan.vercel.app/it/events/trail-montan-sierra-espina-10k-montan-2026-09-01-10k
END:VEVENT
END:VCALENDAR
