BEGIN:VCALENDAR
VERSION:2.0
PRODID:-//SportPlan//Event Calendar//EN
CALSCALE:GREGORIAN
BEGIN:VEVENT
UID:7ac7c5c3-4e67-41fa-beb8-ffcd787d09c3@sportplan.local
DTSTAMP:20260420T201828Z
DTSTART;VALUE=DATE:20260808
DTEND;VALUE=DATE:20260809
SUMMARY:Trail Internacional da Raia (Tir)
DESCRIPTION:Trail Internacional da Raia (Tir) se celebrará el 8 de agosto de 2026 en Aldeia do Bispo (Navasfrias)\, Salamanca\, Castilla y León. Es una cita ideal para quienes buscan un recorrido bien organizado\, buen ambiente y una experiencia deportiva memorable. La distancia prevista es de 27 km\, lo que la convierte en una opción atractiva tanto para participantes habituales como para quienes quieren marcarse un nuevo reto.
LOCATION:Aldeia do Bispo (Navasfrias)\, Salamanca\, Castilla y León
URL:https://sportplan.vercel.app/it/events/trail-internacional-da-raia-tir-aldeia-do-bispo-navasfrias-2026-08-08-27k
END:VEVENT
END:VCALENDAR
