BEGIN:VCALENDAR
VERSION:2.0
PRODID:-//SportPlan//Event Calendar//EN
CALSCALE:GREGORIAN
BEGIN:VEVENT
UID:b9225e6c-095d-4964-b8d5-d459d474ea1f@sportplan.local
DTSTAMP:20260420T195007Z
DTSTART;VALUE=DATE:20260614
DTEND;VALUE=DATE:20260615
SUMMARY:Trail Hoz de la Vieja
DESCRIPTION:Trail Hoz de la Vieja se celebra en Hoz de la Vieja\, Teruel el 14 de junio de 2026. Esta prueba ofrece una experiencia bien organizada para corredores\, ideal para corredores que buscan un reto bien definido. Es una buena oportunidad para disfrutar del ambiente del evento\, medirte sobre el recorrido y vivir una jornada deportiva en Hoz de la Vieja\, Teruel.
LOCATION:Hoz de la Vieja\, Teruel
URL:https://sportplan.vercel.app/it/events/trail-hoz-de-la-vieja-hoz-de-la-vieja-2026-06-14
END:VEVENT
END:VCALENDAR
