BEGIN:VCALENDAR
VERSION:2.0
PRODID:-//SportPlan//Event Calendar//EN
CALSCALE:GREGORIAN
BEGIN:VEVENT
UID:614b2a83-4a54-4a87-8fd0-009dcda277da@sportplan.local
DTSTAMP:20260420T194613Z
DTSTART;VALUE=DATE:20260425
DTEND;VALUE=DATE:20260426
SUMMARY:Trail Garraf Costa
DESCRIPTION:Trail Garraf Costa se celebra en Sitges el 25 de abril de 2026. Es una cita ideal para vivir una gran jornada de running con un recorrido de 32 km route that suits both focused racing and enjoying the local atmosphere. Tanto si buscas marca como si prefieres disfrutar del recorrido\, ofrece una experiencia atractiva para corredores y acompañantes.
LOCATION:Sitges
URL:https://sportplan.vercel.app/it/events/trail-garraf-costa-sitges-2026-04-25
END:VEVENT
END:VCALENDAR
