BEGIN:VCALENDAR
VERSION:2.0
PRODID:-//SportPlan//Event Calendar//EN
CALSCALE:GREGORIAN
BEGIN:VEVENT
UID:e43dfa61-4efd-4258-bacd-2bd3376df56f@sportplan.local
DTSTAMP:20260420T195009Z
DTSTART;VALUE=DATE:20260426
DTEND;VALUE=DATE:20260427
SUMMARY:Trail Friolero
DESCRIPTION:Trail Friolero se celebra el 26 de abril de 2026 en Frías de Albarracín\, Teruel. Es una buena opción para quienes buscan un evento bien organizado en un entorno atractivo. Consulta la información oficial del organizador para conocer horarios\, recogida de dorsales y detalles logísticos.
LOCATION:Frías de Albarracín\, Teruel
URL:https://sportplan.vercel.app/it/events/trail-friolero-fr-as-de-albarrac-n-2026-04-26
END:VEVENT
END:VCALENDAR
