BEGIN:VCALENDAR
VERSION:2.0
PRODID:-//SportPlan//Event Calendar//EN
CALSCALE:GREGORIAN
BEGIN:VEVENT
UID:69bb9383-e67e-47c5-bbc7-b77e55845f49@sportplan.local
DTSTAMP:20260420T212051Z
DTSTART;VALUE=DATE:20260705
DTEND;VALUE=DATE:20260706
SUMMARY:Trail di Cortina 48K 2026
DESCRIPTION:Trail di Cortina 48K 2026 si terrà il 5 luglio 2026 a Cortina d'Ampezzo\, Veneto. È una buona scelta per chi cerca un'esperienza sportiva ben organizzata e un'atmosfera motivante. Il percorso copre circa 48 km. Consulta le informazioni ufficiali dell'evento per orari\, percorso e dettagli logistici.
LOCATION:Cortina d'Ampezzo\, Veneto
URL:https://sportplan.vercel.app/it/events/trail-di-cortina-48k-2026-cortina-d-ampezzo-2026-07-05
END:VEVENT
END:VCALENDAR
