BEGIN:VCALENDAR
VERSION:2.0
PRODID:-//SportPlan//Event Calendar//EN
CALSCALE:GREGORIAN
BEGIN:VEVENT
UID:541197e1-2b31-4a5a-8cb7-aa9fc6e0f503@sportplan.local
DTSTAMP:20260420T200428Z
DTSTART;VALUE=DATE:20260504
DTEND;VALUE=DATE:20260505
SUMMARY:Trail de Mondariz - Maratona 40K
DESCRIPTION:Trail de Mondariz - Maratona 40K se celebra en Mondariz\, Pontevedra\, Galicia el 4 de mayo de 2026\, una buena oportunidad para disfrutar del ambiente de carrera en este destino. La distancia anunciada es de 4 km. Se espera una jornada animada\, con apoyo del público y un recorrido atractivo tanto para corredores habituales como para quienes buscan un nuevo reto.
LOCATION:Mondariz\, Pontevedra\, Galicia
URL:https://sportplan.vercel.app/it/events/trail-de-mondariz-maratona-40k-mondariz-2026-05-04-40k
END:VEVENT
END:VCALENDAR
