BEGIN:VCALENDAR
VERSION:2.0
PRODID:-//SportPlan//Event Calendar//EN
CALSCALE:GREGORIAN
BEGIN:VEVENT
UID:c032168a-11cc-45e2-b177-635c7f94d452@sportplan.local
DTSTAMP:20260421T014010Z
DTSTART;VALUE=DATE:20260718
DTEND;VALUE=DATE:20260719
SUMMARY:Trail de l'Oisans 2026
DESCRIPTION:Trail de l'Oisans 2026 se déroule à Bourg-d'Oisans\, Isère le 18 juillet 2026\, en rassemblant les coureurs dans un cadre agréable et une belle ambiance sportive. L'épreuve propose sur environ 50 km\, avec un parcours bien balisé et une belle ambiance de course\, ce qui en fait un excellent choix aussi bien pour se challenger que pour profiter pleinement de la journée.
LOCATION:Bourg-d'Oisans\, Isère
URL:https://sportplan.vercel.app/it/events/trail-de-l-oisans-2026-bourg-d-oisans-2026-07-18
END:VEVENT
END:VCALENDAR
