BEGIN:VCALENDAR
VERSION:2.0
PRODID:-//SportPlan//Event Calendar//EN
CALSCALE:GREGORIAN
BEGIN:VEVENT
UID:2612bc48-2304-4fef-b7f9-623b95099881@sportplan.local
DTSTAMP:20260420T200642Z
DTSTART;VALUE=DATE:20260808
DTEND;VALUE=DATE:20260809
SUMMARY:Trail da Raia
DESCRIPTION:Trail da Raia se celebrará el 8 de agosto de 2026 en Navasfrias\, Salamanca\, Castilla y León. Es una cita ideal para quienes buscan un recorrido bien organizado\, buen ambiente y una experiencia deportiva memorable. La distancia prevista es de 25 km\, lo que la convierte en una opción atractiva tanto para participantes habituales como para quienes quieren marcarse un nuevo reto.
LOCATION:Navasfrias\, Salamanca\, Castilla y León
URL:https://sportplan.vercel.app/it/events/trail-da-raia-navasfrias-2026-08-08-25k
END:VEVENT
END:VCALENDAR
