BEGIN:VCALENDAR
VERSION:2.0
PRODID:-//SportPlan//Event Calendar//EN
CALSCALE:GREGORIAN
BEGIN:VEVENT
UID:2c2f9cc2-97c5-4bc4-96cd-5f295b8fa552@sportplan.local
DTSTAMP:20260420T181829Z
DTSTART;VALUE=DATE:20260515
DTEND;VALUE=DATE:20260518
SUMMARY:Trail Alsace Grand Est by Utmb®
DESCRIPTION:Trail Alsace Grand Est by Utmb® a lieu le 15 mai 2026 à Turckheim. C'est un excellent choix pour les participants à la recherche d'une épreuve bien organisée dans un cadre agréable. Un rendez-vous idéal pour profiter du parcours\, de l'ambiance et d'une belle journée sportive.
LOCATION:Turckheim
URL:https://sportplan.vercel.app/it/events/trail-alsace-grand-est-by-utmb-turckheim-2026-05-15
END:VEVENT
END:VCALENDAR
