BEGIN:VCALENDAR
VERSION:2.0
PRODID:-//SportPlan//Event Calendar//EN
CALSCALE:GREGORIAN
BEGIN:VEVENT
UID:ff80c7ff-6247-4527-bcd9-f6562ecdd40d@sportplan.local
DTSTAMP:20260420T211516Z
DTSTART;VALUE=DATE:20260614
DTEND;VALUE=DATE:20260615
SUMMARY:Tour de Fukushima 2026
DESCRIPTION:Tour de Fukushima 2026 is an amateur road-cycling qualifier in Naraha\, Fukushima\, Japan on 14 June 2026. The official UCI Gran Fondo World Series page describes an open-entry weekend with a granfondo from Naraha through Hamadori and the Abukuma Mountains\, plus a shorter mediofondo on the same finishing section.
LOCATION:Naraha
URL:https://sportplan.vercel.app/it/events/tour-de-fukushima-2026-naraha-2026-06-14
END:VEVENT
END:VCALENDAR
