BEGIN:VCALENDAR
VERSION:2.0
PRODID:-//SportPlan//Event Calendar//EN
CALSCALE:GREGORIAN
BEGIN:VEVENT
UID:d48f3edc-f13e-43a3-8eea-2e2cb2d692be@sportplan.local
DTSTAMP:20260420T195719Z
DTSTART;VALUE=DATE:20260815
DTEND;VALUE=DATE:20260817
SUMMARY:Tough Mudder South West 2026
DESCRIPTION:Tough Mudder South West 2026 is an official amateur OCR participation weekend at Badminton Estate in South Gloucestershire\, United Kingdom on 15 to 16 August 2026. The official Tough Mudder UK event page confirms 15K\, 5K\, Kids Adventure\, and spectator participation formats with public registration\, making it a regular-athlete obstacle-course weekend rather than a pro-only competition.
LOCATION:Badminton Estate
URL:https://sportplan.vercel.app/it/events/tough-mudder-south-west-badminton-estate-2026-08-15
END:VEVENT
END:VCALENDAR
