BEGIN:VCALENDAR
VERSION:2.0
PRODID:-//SportPlan//Event Calendar//EN
CALSCALE:GREGORIAN
BEGIN:VEVENT
UID:b48694a8-1ba2-4cbd-9346-4750ced791e0@sportplan.local
DTSTAMP:20260420T195516Z
DTSTART;VALUE=DATE:20261010
DTEND;VALUE=DATE:20261012
SUMMARY:Tough Mudder Manchester 2026
DESCRIPTION:Tough Mudder Manchester 2026 is an official amateur OCR participation event at The Cheshire County Showground in Knutsford\, England on 10-11 October 2026. The official Tough Mudder UK event page confirms 15K and 5K obstacle-course formats\, open public registration\, and the new Cheshire County Showground venue.
LOCATION:The Cheshire County Showground
URL:https://sportplan.vercel.app/it/events/tough-mudder-manchester-2026-knutsford-2026-10-10
END:VEVENT
END:VCALENDAR
