BEGIN:VCALENDAR
VERSION:2.0
PRODID:-//SportPlan//Event Calendar//EN
CALSCALE:GREGORIAN
BEGIN:VEVENT
UID:f16503f5-6ca6-432a-8169-5a40847a08b5@sportplan.local
DTSTAMP:20260420T194923Z
DTSTART;VALUE=DATE:20260426
DTEND;VALUE=DATE:20260427
SUMMARY:Tissington Trail Marathon & Half Marathon
DESCRIPTION:
LOCATION:Derbyshire
URL:https://sportplan.vercel.app/it/events/tissington-trail-marathon-half-marathon-derbyshire-2026-04-26
END:VEVENT
END:VCALENDAR
