BEGIN:VCALENDAR
VERSION:2.0
PRODID:-//SportPlan//Event Calendar//EN
CALSCALE:GREGORIAN
BEGIN:VEVENT
UID:46df4440-c3e3-45f1-90c2-bf52ce053356@sportplan.local
DTSTAMP:20260420T224518Z
DTSTART;VALUE=DATE:20270124
DTEND;VALUE=DATE:20270125
SUMMARY:Tissington Trail January Half Marathon & 10k Weekend
DESCRIPTION:discovered via Brave web_search + web_fetch on direct World's Marathons UK trail page\; source redirected from an older january listing URL to the canonical 2027 page
LOCATION:Ashbourne\, Derbyshire\, United Kingdom
URL:https://sportplan.vercel.app/it/events/tissington-trail-january-half-marathon-10k-weekend-2027-01-24
END:VEVENT
END:VCALENDAR
