BEGIN:VCALENDAR
VERSION:2.0
PRODID:-//SportPlan//Event Calendar//EN
CALSCALE:GREGORIAN
BEGIN:VEVENT
UID:5bb477f0-485d-4742-9f8c-62c17b5166ad@sportplan.local
DTSTAMP:20260420T195016Z
DTSTART;VALUE=DATE:20261113
DTEND;VALUE=DATE:20261114
SUMMARY:The Last Desert
DESCRIPTION:The Last Desert se celebrará el 13 de noviembre de 2026 en Ushuaia\, Tierra del Fuego. Es una buena cita para quienes quieren vivir el ambiente del evento en directo y planificar la jornada con antelación. La sede prevista está a unos 250 km\, así que conviene revisar accesos\, horarios y servicios antes de salir.
LOCATION:Ushuaia\, Tierra del Fuego
URL:https://sportplan.vercel.app/it/events/the-last-desert-ushuaia-2026-11-13-250k
END:VEVENT
END:VCALENDAR
