BEGIN:VCALENDAR
VERSION:2.0
PRODID:-//SportPlan//Event Calendar//EN
CALSCALE:GREGORIAN
BEGIN:VEVENT
UID:3754c536-cd46-4c19-9771-22fce1b3bbf8@sportplan.local
DTSTAMP:20260420T194617Z
DTSTART;VALUE=DATE:20261024
DTEND;VALUE=DATE:20261025
SUMMARY:The Great Big Cookie Run
DESCRIPTION:discovered via official Run Ottawa 2026 event calendar\; 5K + kids 1K fun event for all ages
LOCATION:Ottawa\, ON\, Canada
URL:https://sportplan.vercel.app/it/events/the-great-big-cookie-run-2026-10-24
END:VEVENT
END:VCALENDAR
