BEGIN:VCALENDAR
VERSION:2.0
PRODID:-//SportPlan//Event Calendar//EN
CALSCALE:GREGORIAN
BEGIN:VEVENT
UID:2eb0f349-33aa-4989-bd04-621833f524be@sportplan.local
DTSTAMP:20260420T211138Z
DTSTART;VALUE=DATE:20260607
DTEND;VALUE=DATE:20260608
SUMMARY:The Glocknerkönig
DESCRIPTION:The Glocknerkönig findet am 7. Juni 2026 in Rauris statt. Die Veranstaltung ist eine gute Wahl für alle\, die eine gut organisierte Herausforderung in attraktiver Umgebung suchen. Ideal\, um die Saison zu planen\, die Event-Atmosphäre zu genießen und im eigenen Tempo zu starten.
LOCATION:Rauris
URL:https://sportplan.vercel.app/it/events/the-glocknerkonig-rauris-2026-06-07
END:VEVENT
END:VCALENDAR
