BEGIN:VCALENDAR
VERSION:2.0
PRODID:-//SportPlan//Event Calendar//EN
CALSCALE:GREGORIAN
BEGIN:VEVENT
UID:21ecaf00-a483-4274-98cd-f8976edf6f34@sportplan.local
DTSTAMP:20260420T194502Z
DTSTART;VALUE=DATE:20260426
DTEND;VALUE=DATE:20260427
SUMMARY:The Fellsman
DESCRIPTION:
LOCATION:Ingleton
URL:https://sportplan.vercel.app/it/events/the-fellsman-ingleton-2026-04-26
END:VEVENT
END:VCALENDAR
