BEGIN:VCALENDAR
VERSION:2.0
PRODID:-//SportPlan//Event Calendar//EN
CALSCALE:GREGORIAN
BEGIN:VEVENT
UID:6ed28851-867a-42a9-809c-b809627f12c5@sportplan.local
DTSTAMP:20260420T200805Z
DTSTART;VALUE=DATE:20260802
DTEND;VALUE=DATE:20260803
SUMMARY:The Bloody Long Walk Sydney North 2026
DESCRIPTION:The Bloody Long Walk Sydney North 2026 is an official amateur 35 km walking-hiking participation event in Sydney\, New South Wales on 2 August 2026. The official event page and 2026 series listing confirm a scenic 35 km public walk starting at Palm Beach and finishing at Manly Promenade\, with open participant registration supporting the Mito Foundation.
LOCATION:Palm Beach\, Sydney\, New South Wales
URL:https://sportplan.vercel.app/it/events/the-bloody-long-walk-sydney-north-2026-2026-08-02
END:VEVENT
END:VCALENDAR
