BEGIN:VCALENDAR
VERSION:2.0
PRODID:-//SportPlan//Event Calendar//EN
CALSCALE:GREGORIAN
BEGIN:VEVENT
UID:251d369f-0260-4f71-b9c7-c83b32a990c3@sportplan.local
DTSTAMP:20260420T211550Z
DTSTART;VALUE=DATE:20260531
DTEND;VALUE=DATE:20260601
SUMMARY:The Bloody Long Walk Sunshine Coast 2026
DESCRIPTION:The Bloody Long Walk Sunshine Coast 2026 is an official amateur 35 km walking-hiking participation event in Queensland on 31 May 2026. The official event page and 2026 series listing confirm a scenic 35 km public walk from Coolum to Mooloolaba Beach on the Sunshine Coast\, supporting the Mito Foundation with open participant registration.
LOCATION:Coolum Beach\, Sunshine Coast\, Queensland
URL:https://sportplan.vercel.app/it/events/the-bloody-long-walk-sunshine-coast-2026-2026-05-31
END:VEVENT
END:VCALENDAR
