BEGIN:VCALENDAR
VERSION:2.0
PRODID:-//SportPlan//Event Calendar//EN
CALSCALE:GREGORIAN
BEGIN:VEVENT
UID:2f181db0-404f-4e93-8847-22e7712fa0c8@sportplan.local
DTSTAMP:20260420T211347Z
DTSTART;VALUE=DATE:20260913
DTEND;VALUE=DATE:20260914
SUMMARY:The Bloody Long Walk Perth 2026
DESCRIPTION:The Bloody Long Walk Perth 2026 is an official amateur 35 km walking-hiking participation event in Perth\, Western Australia on 13 September 2026. The official event page confirms a 35 km scenic public walk starting in South Perth and finishing at Cottesloe Beach\, with open registration supporting the Mito Foundation.
LOCATION:South Perth\, Perth\, Western Australia
URL:https://sportplan.vercel.app/it/events/the-bloody-long-walk-perth-2026-2026-09-13
END:VEVENT
END:VCALENDAR
