BEGIN:VCALENDAR
VERSION:2.0
PRODID:-//SportPlan//Event Calendar//EN
CALSCALE:GREGORIAN
BEGIN:VEVENT
UID:f8fcd83d-a3f9-436f-8cd2-ddf2e17e7dbb@sportplan.local
DTSTAMP:20260420T211511Z
DTSTART;VALUE=DATE:20260621
DTEND;VALUE=DATE:20260622
SUMMARY:The Bloody Long Walk Brisbane 2026
DESCRIPTION:The Bloody Long Walk Brisbane 2026 is an official amateur 35 km walking-hiking participation event in Queensland on 21 June 2026. The official event page and 2026 series listing confirm a scenic 35 km public walk starting at Curlew Park in Sandgate and continuing through the Boondall Wetlands toward Brisbane city\, with open participant registration supporting the Mito Foundation.
LOCATION:Curlew Park\, Sandgate\, Brisbane\, Queensland
URL:https://sportplan.vercel.app/it/events/the-bloody-long-walk-brisbane-2026-2026-06-21
END:VEVENT
END:VCALENDAR
