BEGIN:VCALENDAR
VERSION:2.0
PRODID:-//SportPlan//Event Calendar//EN
CALSCALE:GREGORIAN
BEGIN:VEVENT
UID:b135d147-335a-4c80-958c-f5f43d48c990@sportplan.local
DTSTAMP:20260420T224451Z
DTSTART;VALUE=DATE:20261018
DTEND;VALUE=DATE:20261019
SUMMARY:The Bloody Long Walk Adelaide 2026
DESCRIPTION:The Bloody Long Walk Adelaide 2026 is an official amateur 35 km walking-hiking participation event in Adelaide\, South Australia on 18 October 2026. The official event page confirms a 35 km scenic public walk starting at Carrick Hill and finishing at Glenelg\, with open registration supporting the Mito Foundation.
LOCATION:Carrick Hill\, Adelaide\, South Australia
URL:https://sportplan.vercel.app/it/events/the-bloody-long-walk-adelaide-2026-2026-10-18
END:VEVENT
END:VCALENDAR
