BEGIN:VCALENDAR
VERSION:2.0
PRODID:-//SportPlan//Event Calendar//EN
CALSCALE:GREGORIAN
BEGIN:VEVENT
UID:ffd6916a-404e-4665-bc0b-056427033f92@sportplan.local
DTSTAMP:20260420T211109Z
DTSTART;VALUE=DATE:20270224
DTEND;VALUE=DATE:20270225
SUMMARY:Tel Aviv Marathon
DESCRIPTION:discovered via confirmed web_fetch\; page confirms TLV Marathon 2027 registration with mini-marathon on 24.02.2027\; home URL different from regTLVMarathon_en.aspx already in queue\; stable official homepage
LOCATION:Tel Aviv\, Israel
URL:https://sportplan.vercel.app/it/events/tel-aviv-marathon-2027-02-24
END:VEVENT
END:VCALENDAR
