BEGIN:VCALENDAR
VERSION:2.0
PRODID:-//SportPlan//Event Calendar//EN
CALSCALE:GREGORIAN
BEGIN:VEVENT
UID:f16b2511-ac14-4249-84f0-71df0c989e55@sportplan.local
DTSTAMP:20260420T194805Z
DTSTART;VALUE=DATE:20260426
DTEND;VALUE=DATE:20260427
SUMMARY:TCS World 10K Bengaluru 2026
DESCRIPTION:Official Procam mass-participation road-running event in Bengaluru on 26 April 2026. The official TCS World 10K Bengaluru site presents the race as an inclusive city run with elite and amateur categories\, including the World 10K\, Open 10K\, Majja Run\, Senior Citizens' Run\, Champions with Disability\, and Virtual Run.
LOCATION:Field Marshal Sam Manekshaw Parade Ground\, Bengaluru\, Karnataka
URL:https://sportplan.vercel.app/it/events/tcs-world-10k-bengaluru-2026-2026-04-26
END:VEVENT
END:VCALENDAR
