BEGIN:VCALENDAR
VERSION:2.0
PRODID:-//SportPlan//Event Calendar//EN
CALSCALE:GREGORIAN
BEGIN:VEVENT
UID:62750039-ad53-49f3-9d76-70953418aff7@sportplan.local
DTSTAMP:20260420T223628Z
DTSTART;VALUE=DATE:20260830
DTEND;VALUE=DATE:20260831
SUMMARY:TCS Sydney Marathon
DESCRIPTION:World's Marathons listing for Australia's Abbott World Marathon Majors race.
LOCATION:Sydney\, Australia
URL:https://sportplan.vercel.app/it/events/tcs-sydney-marathon-2026-08-30
END:VEVENT
END:VCALENDAR
