BEGIN:VCALENDAR
VERSION:2.0
PRODID:-//SportPlan//Event Calendar//EN
CALSCALE:GREGORIAN
BEGIN:VEVENT
UID:07a07b3d-2672-4838-a7d4-627e43c2b903@sportplan.local
DTSTAMP:20260420T211227Z
DTSTART;VALUE=DATE:20260426
DTEND;VALUE=DATE:20260427
SUMMARY:TCS London Marathon
DESCRIPTION:discovered via web_fetch on official event site for UK/IE priority coverage
LOCATION:London\, United Kingdom
URL:https://sportplan.vercel.app/it/events/tcs-london-marathon-2026-04-26
END:VEVENT
END:VCALENDAR
