BEGIN:VCALENDAR
VERSION:2.0
PRODID:-//SportPlan//Event Calendar//EN
CALSCALE:GREGORIAN
BEGIN:VEVENT
UID:892a77a7-db55-48fe-95ad-ac4eaa093f79@sportplan.local
DTSTAMP:20260420T194650Z
DTSTART;VALUE=DATE:20260426
DTEND;VALUE=DATE:20260427
SUMMARY:TC10K
DESCRIPTION:
LOCATION:Victoria
URL:https://sportplan.vercel.app/it/events/tc10k-victoria-2026-04-26
END:VEVENT
END:VCALENDAR
