BEGIN:VCALENDAR
VERSION:2.0
PRODID:-//SportPlan//Event Calendar//EN
CALSCALE:GREGORIAN
BEGIN:VEVENT
UID:be33c459-67fb-4320-a186-aca5d0be2ee0@sportplan.local
DTSTAMP:20260421T001201Z
DTSTART;VALUE=DATE:20260726
DTEND;VALUE=DATE:20260727
SUMMARY:Tatra Trail
DESCRIPTION:
LOCATION:Kościelisko
URL:https://sportplan.vercel.app/it/events/tatra-trail-koscielisko-2026-07-26
END:VEVENT
END:VCALENDAR
