BEGIN:VCALENDAR
VERSION:2.0
PRODID:-//SportPlan//Event Calendar//EN
CALSCALE:GREGORIAN
BEGIN:VEVENT
UID:3d02c4e4-cdee-4b26-b44f-0fbb59ed3ee7@sportplan.local
DTSTAMP:20260421T001227Z
DTSTART;VALUE=DATE:20260726
DTEND;VALUE=DATE:20260727
SUMMARY:Tatra Skyline
DESCRIPTION:
LOCATION:Kościelisko
URL:https://sportplan.vercel.app/it/events/tatra-skyline-koscielisko-2026-07-26
END:VEVENT
END:VCALENDAR
