BEGIN:VCALENDAR
VERSION:2.0
PRODID:-//SportPlan//Event Calendar//EN
CALSCALE:GREGORIAN
BEGIN:VEVENT
UID:16d90008-93f3-4917-b0f9-932519ba5d86@sportplan.local
DTSTAMP:20260420T224554Z
DTSTART;VALUE=DATE:20270228
DTEND;VALUE=DATE:20270301
SUMMARY:Tartu Maraton Freestyle 31K 2027
DESCRIPTION:Tartu Maraton Freestyle 31K is an official mass-participation cross-country ski race in Estonia on 28 February 2027. The official Tartu Maraton page states that the event programme includes a 31 km freestyle race\, with the shorter 31 km distances starting in Arula and finishing in Elva as part of the public Tartu Ski Marathon weekend.
LOCATION:Arula to Elva\, Estonia
URL:https://sportplan.vercel.app/it/events/tartu-maraton-freestyle-31k-2027-arula-2027-02-28
END:VEVENT
END:VCALENDAR
