BEGIN:VCALENDAR
VERSION:2.0
PRODID:-//SportPlan//Event Calendar//EN
CALSCALE:GREGORIAN
BEGIN:VEVENT
UID:40102a48-58f9-4d21-8643-03714760a2a2@sportplan.local
DTSTAMP:20260420T194801Z
DTSTART;VALUE=DATE:20260426
DTEND;VALUE=DATE:20260427
SUMMARY:T100 Amateur racing is here!
DESCRIPTION:Official Dubai T100 participate page covers the amateur race offering in Dubai\, including age-group multi-sport participation tied to the Dubai T100 weekend.
LOCATION:Dubai\, United Arab Emirates
URL:https://sportplan.vercel.app/it/events/t100-amateur-racing-is-here-2026-04-26
END:VEVENT
END:VCALENDAR
