BEGIN:VCALENDAR
VERSION:2.0
PRODID:-//SportPlan//Event Calendar//EN
CALSCALE:GREGORIAN
BEGIN:VEVENT
UID:4c25edf9-320d-4e62-9508-0fa64c9d010d@sportplan.local
DTSTAMP:20260420T211611Z
DTSTART;VALUE=DATE:20260719
DTEND;VALUE=DATE:20260720
SUMMARY:Swissalpine K42 — Flims Laax 2026
DESCRIPTION:Official K42 distance page\; 42.1km trail marathon with +/-2609m elevation\; UNESCO World Heritage Sardona\; stable sub-page\; CH trail variety
LOCATION:Flims Laax\, Switzerland
URL:https://sportplan.vercel.app/it/events/swissalpine-k42-flims-laax-2026-2026-07-19
END:VEVENT
END:VCALENDAR
